BEGIN:VCALENDAR
VERSION:2.0
METHOD:PUBLISH
PRODID:- PBCS IT-News //NONSGML Events //EN
CALSCALE:GREGORIAN
X-WR-CALNAME:ICAL-BLOG
BEGIN:VEVENT
UID:b54875f0-29af-43bd-9a91-ae25a8584931
DTSTAMP:20260419T134443Z
CREATED:20260419T134443Z
SUMMARY:WSUS: Monatliches approven der Microsoft-Updates wird häufig vergessen
DESCRIPTION:https://wp.pbcs.de/wsus-monatliches-approven-der-microsoft-updates-wird-haeufig-vergessen/ - Artikel vom: So.\, 25. Dezember 2005\, 14:34:15 - Bei WSUS läßt sich der Prozeß automatisieren. Wer noch SUS im Einsatz hat\, bitte nicht das approven vergessen. (Post ID:592)
LOCATION:https://wp.pbcs.de
CATEGORIES:Gelbe Kategorie
TRANSP:TRANSPARENT
X-MICROSOFT-CDO-BUSYSTATUS:FREE
SEQUENCE:0
CLASS:PUBLIC
PRIORITY:1
DTSTART:20260309T080000Z
DTEND:20260309T090000Z
BEGIN:VALARM
TRIGGER:-PT30M
ACTION:DISPLAY
DESCRIPTION:Reminder for WSUS: Monatliches approven der Microsoft-Updates wird häufig vergessen
END:VALARM
END:VEVENT
END:VCALENDAR
