BEGIN:VCALENDAR
VERSION:2.0
METHOD:PUBLISH
PRODID:- PBCS IT-News //NONSGML Events //EN
CALSCALE:GREGORIAN
X-WR-CALNAME:ICAL-BLOG
BEGIN:VEVENT
UID:9b1f3085-089f-4a72-b495-b48d47dd7e47
DTSTAMP:20260426T043931Z
CREATED:20260426T043931Z
SUMMARY:Kart fahren
DESCRIPTION:https://wp.pbcs.de/wpdoodle/kart-fahren/ - Artikel vom: Sa.\, 11. Juni 2022\, 13:11:03 - Spaß haben beim Kartfahren. Gelegentlich treffen sich die Rennsport-Begeisterten\, um gegeneinander ein Kart Rennen zu fahren. Die Veranstaltungsorte sind regional angesiedelt und variieren jeweils. Anreise erfolgt in Eigen-Regie. Es wird erst ein Qualifying und dann meist ein Rennen mit bis zu 35 Runden gefahren. Der Sieger erhält den Pokal im Rahmen einer Sieger-Ehrung. Kosten liegen bei ca. 40 € pro Teilnehmer und sind an den Betreiber der Kartbahn zu entrichten. Es sind mindestens 10 Teilnehmer erforderlich\, um ein eigenes Rennen zu veranstalten. Dauer | Anfang | Ende: 1 Tag(e) | 18:00 | 19:00 Uhr Voraussetzungen: Führerschein Klasse 3 (aktuell ist das Klasse B)
LOCATION:https://wp.pbcs.de
CATEGORIES:Gelbe Kategorie
TRANSP:TRANSPARENT
X-MICROSOFT-CDO-BUSYSTATUS:FREE
SEQUENCE:0
CLASS:PUBLIC
PRIORITY:1
DTSTART:20260426T070000Z
DTEND:20260426T080000Z
BEGIN:VALARM
TRIGGER:-PT30M
ACTION:DISPLAY
DESCRIPTION:Reminder for Kart fahren
END:VALARM
END:VEVENT
END:VCALENDAR
