BEGIN:VCALENDAR
VERSION:2.0
METHOD:PUBLISH
PRODID:- PBCS IT-News //NONSGML Events //EN
CALSCALE:GREGORIAN
X-WR-CALNAME:ICAL-BLOG
BEGIN:VEVENT
UID:b6245f50-8489-413c-b0f0-eb3e2d9dfde7
DTSTAMP:20260420T125541Z
CREATED:20260420T125541Z
SUMMARY:WordPress Agentur in Bergkamen
DESCRIPTION:https://wp.pbcs.de/wordpress-agentur-bergkamen/ - Artikel vom: Fr.\, 10. April 2026\, 20:00:21 - Ihre WordPress-Website läuft nicht rund\, ist zu langsam oder bringt keine Anfragen?\n \nViele Unternehmen nutzen WordPress – aber ohne professionelle Betreuung entstehen schnell Probleme: lange Ladezeiten\, Sicherheitslücken oder schlechte Rankings bei Google.\n \nUnsere Lösung für Sie\n \n\nErstellung moderner WordPress-Websites\n \nOptimierung bestehender Seiten\n \nWartung\, Updates und Sicherheit\n \nSuchmaschinenoptimierung (SEO)\n\n \nWarum wir?\n \n\nÜber 35 Jahre IT-Erfahrung\n \nPersönlicher Ansprechpartner\n \nSchnelle Hilfe bei Problemen\n \nVerständliche Beratung ohne Fachchinesisch\n\n \nUnsere Leistungen rund um WordPress\n \n\nWordPress Website erstellen lassen\n \nWordPress Wartung & Pflege\n \nPerformance-Optimierung\n \nSicherheits-Checks\n \nSEO für WordPress\n\n \nRegional für Sie da\n \nWir betreuen Unternehmen in Bergkamen\, Dortmund\, Unna und im gesamten Ruhrgebiet.\n \nJetzt unverbindlich anfragen\n \n👉 Kostenloses Erstgespräch vereinbaren👉 Schnelle Hilfe – unkompliziert & persönlich\n \nHäufige Fragen (FAQ)\n \nWas kostet eine WordPress Website?\n \nDie Kosten hängen vom Umfang ab. Einfache Websites starten im niedrigen vierstelligen Bereich.\n \nWie schnell können Sie helfen?\n \nIn vielen Fällen kurzfristig – oft innerhalb weniger Tage.\n \nBieten Sie Wartungsverträge an?\n \nJa\, inklusive Updates\, Backups und Sicherheitschecks.
LOCATION:https://wp.pbcs.de
CATEGORIES:Gelbe Kategorie
TRANSP:TRANSPARENT
X-MICROSOFT-CDO-BUSYSTATUS:FREE
SEQUENCE:0
CLASS:PUBLIC
PRIORITY:1
DTSTART:20260421T070000Z
DTEND:20260421T080000Z
BEGIN:VALARM
TRIGGER:-PT30M
ACTION:DISPLAY
DESCRIPTION:Reminder for WordPress Agentur in Bergkamen
END:VALARM
END:VEVENT
END:VCALENDAR
