BEGIN:VCALENDAR
VERSION:2.0
METHOD:PUBLISH
PRODID:- PBCS IT-News //NONSGML Events //EN
CALSCALE:GREGORIAN
X-WR-CALNAME:ICAL-BLOG
BEGIN:VEVENT
UID:d3df87a9-dac1-40f2-8524-75c955f4bfd8
DTSTAMP:20260420T125405Z
CREATED:20260420T125405Z
SUMMARY:Wordcloud interaktive Präsentation
DESCRIPTION:https://wp.pbcs.de/wordcloud/ - Artikel vom: Di.\, 13. Januar 2026\, 17:36:43 - [menti_cloud]
LOCATION:https://wp.pbcs.de
CATEGORIES:Gelbe Kategorie
TRANSP:TRANSPARENT
X-MICROSOFT-CDO-BUSYSTATUS:FREE
SEQUENCE:0
CLASS:PUBLIC
PRIORITY:1
DTSTART:20260421T070000Z
DTEND:20260421T080000Z
BEGIN:VALARM
TRIGGER:-PT30M
ACTION:DISPLAY
DESCRIPTION:Reminder for Wordcloud interaktive Präsentation
END:VALARM
END:VEVENT
END:VCALENDAR
