BEGIN:VCALENDAR
VERSION:2.0
METHOD:PUBLISH
PRODID:- PBCS IT-News //NONSGML Events //EN
CALSCALE:GREGORIAN
X-WR-CALNAME:ICAL-BLOG
BEGIN:VEVENT
UID:7d3c238a-eefe-4a10-8225-2004737bc064
DTSTAMP:20260423T234643Z
CREATED:20260423T234643Z
SUMMARY:Windows 10 Browsertausch
DESCRIPTION:https://wp.pbcs.de/windows-10-browsertausch/ - Artikel vom: Fr.\, 10. Januar 2020\, 14:20:02 - [time_until date="14.01.2020"]\n \nWas ist neu?\n \nMit dem Januar-Sicherheitsupdate am 14.1.2020 tauscht #Microsoft den unbeliebten Browser Edge gegen #Edge on Chromium aus. Dies gilt für alle #Windows 10 Versionen ab 1803. Der Neue basiert wie viele Browser (Google Chrome\, Opera) auf dem Chromium Open Source Projekt. Setzt man in den Einstellungen einen Schalter auf "Ein"\, lassen sich auch Erweiterungen aus dem Chrome Store im neuen Edge installieren und verwenden. Der alte Edge wird deaktiviert und auch das blaue E durch ein blau grüße Symbol ersetzt. Die als "stable" bezeichnete Release-Version ist 79.0.309.60.\n \nDurch Verwendung dieser Plattform ist die Darstellungsquote der korrekt dargestellten Internet Inhalte am höchsten. Die Updates auf das Produkt werden monatlich wie die Windows Updates verteilt. Sie betreffen die Browser-Plattform\, das enthaltenen Adobe Flash-Player Modul und den ebenfalls im Chromium Projekt enthaltenen PDF-Betrachter.\n \nFür Administratoren stehen zahlreiche Richtlinien bereit\, die die Einstellungen des Browsers im Unternehmen erleichtern.\n \nEdge on Chromium und der Internet Explorer 11\n \nEntgegen dem Vorhaben\, den Internet Explorer 11 abschalten zu wollen und eine IE11-Sandbox Funktion im Edge on Chromium für die OCX und ActiveX Elemente zu schaffen\, wurden leider nicht realisiert. Wer solche Objekte verwendet\, muss sie weiterhin mit dem Internet Explorer 11 aufrufen. Der IE11 wird zwar nicht weiter entwickelt\, erhält aber Sicherheitsupdates für die gleiche Lebensdauer wie das verwendete Betriessystem.\n \nChrome für Enterprise oder Edge on Chromium\n \nTrotz umfangreicher Beta-Tests kann man noch nicht endgültig sagen\, welches der beiden Browser-Modelle unter Sicherheits-Aspekten und unter Betrachtung des administrativen Aufwands das bessere ist.\n \n\nGoogle Chrome für Enterprise punktet mit tagaktuellen Sicherheitsaktualisierungen und zeitnahes Implementieren von Funktionen aus dem Stable Release des Chromium Projekts. Es gibt über 200 Richtlinien und die Startseite about:blank ist bei Bedarf möglich. Synchronisation aller Inhalte mit dem Mobile über Google Konto ist möglich.\n \nEdge on Chromium aktualisiert sich in puncto Sicherheit nur 1x pro Monat. Derzeit stehen rund 50 Sicherheitsrichtlinien zur Verfügung\, es gibt kein MSI-Paket für eine administrative Softwareverteilung - dafür wird EOC ins Betriebssystem integriert. Die Startseite lässt sich nur über Erweiterungen abschalten\, sonst kommt immer eine BING-Suchzeile mit Microsoft Content. Die Sysnchronisation ist nur über in Microsoft privates Konto möglich. Geschäftskonten (Azure AD) bieten das Feature noch nicht. Der unterstützte Einsatz unter Citrix oder RDP-Servern erfordert\, dass man mindestens Windows Server 2019 einsetzt. Server 2016 ist offiziell nicht als Plattform freigegeben\, da es sich um die Codebasis von Windows 10 1709 handelt und Freigabe erst ab 1803 besteht.\n\n \nTendenziell ist mir unter den Aspekten der Sicherheit und Zero-Administration und wegen der zahlreichen Gruppenrichtlinien das Google Produkt praxistauglicher. Ich halte daher an meiner Empfehlung für den Einsatz von Google Chrome für Enterprise fest. Zumal dieser Browser auch in Terminalumgebungen (RDP\, Citrix) mit Windows Server 2012 R2 praxisgetestet ist.Zusätzlich kann man den Adobe Flash Player deinstallieren und den #Adobe Acrobat Reader ebenso. Damit ist keine Redistributions-Vereinbarung mit Adobe mehr nötig. Über die Gruppenrichtlinie wird dann die PDF-Dateiendung mit Google Chrome für Enterprise verknüpft und PDF-Dateien können im Browser angesehen\, ausgefüllt (Formulare)\, gespeichert und gedruckt werden.
LOCATION:https://wp.pbcs.de
CATEGORIES:Gelbe Kategorie
TRANSP:TRANSPARENT
X-MICROSOFT-CDO-BUSYSTATUS:FREE
SEQUENCE:0
CLASS:PUBLIC
PRIORITY:1
DTSTART:20260424T070000Z
DTEND:20260424T080000Z
BEGIN:VALARM
TRIGGER:-PT30M
ACTION:DISPLAY
DESCRIPTION:Reminder for Windows 10 Browsertausch
END:VALARM
END:VEVENT
END:VCALENDAR
