BEGIN:VCALENDAR
VERSION:2.0
METHOD:PUBLISH
PRODID:- PBCS IT-News //NONSGML Events //EN
CALSCALE:GREGORIAN
X-WR-CALNAME:ICAL-BLOG
BEGIN:VEVENT
UID:40276cf6-c560-4926-b190-0e034f4da805
DTSTAMP:20260421T111625Z
CREATED:20260421T111625Z
SUMMARY:Wie bekommt man die amtliche Zeit im Netzwerk
DESCRIPTION:https://wp.pbcs.de/wie-bekommt-man-die-amtliche-zeit-im-netzwerk/ - Artikel vom: So.\, 10. März 2019\, 13:57:26 - In der Windows Domäne gelten strenge Regeln für die Uhrzeit. Dadurch kann sich ein Client nicht mehr an der Domäne anmelden\, wenn seine Uhrzeit stark von der Server-Uhrzeit abweicht.Optimal ist daher\, den führenden Domänen-Controller mit externer\, amtlicher Uhrzeit zu versorgen. Die weiteren Domänen-Controller müssen so eingestellt sein (werden)\, dass sie die Uhrzeit vom Domänen-Controller beziehen. Damit das Ganze funktioniert\, muss auf der Firewall der Zugriff auf die amtlichen Zeitserver erlaubt werden. Basis bildet hier das sogenannte NTP Protokoll.Wenn man am ersten Domänen-Controller die folgenden Befehle einstellt - in einer Eingabeaufforderung (Administrator)\, wird die Serverzeit amtlich:\n\nw32tm /config /update /manualpeerlist:"0.pool.ntp.org\,0x8 1.pool.ntp.org\,0x8 2.pool.ntp.org\,0x8 3.pool.ntp.org\,0x8" /syncfromflags:MANUAL\nw32tm /config /reliable:yes\nw32tm /config /update\nnet stop w32time\nnet start w32time\nw32tm /resync /rediscover\n\n (Post ID:1379)
LOCATION:https://wp.pbcs.de
CATEGORIES:Gelbe Kategorie
TRANSP:TRANSPARENT
X-MICROSOFT-CDO-BUSYSTATUS:FREE
SEQUENCE:0
CLASS:PUBLIC
PRIORITY:1
DTSTART:20260313T080000Z
DTEND:20260313T090000Z
BEGIN:VALARM
TRIGGER:-PT30M
ACTION:DISPLAY
DESCRIPTION:Reminder for Wie bekommt man die amtliche Zeit im Netzwerk
END:VALARM
END:VEVENT
END:VCALENDAR
