BEGIN:VCALENDAR
VERSION:2.0
METHOD:PUBLISH
PRODID:- PBCS IT-News //NONSGML Events //EN
CALSCALE:GREGORIAN
X-WR-CALNAME:ICAL-BLOG
BEGIN:VEVENT
UID:616b4386-b076-4ec6-becf-7ed3cb322379
DTSTAMP:20260424T234721Z
CREATED:20260424T234721Z
SUMMARY:Wenn Bauarbeiter Pasta machen: eine köstliche Baustelle der Extraklasse
DESCRIPTION:https://wp.pbcs.de/wenn-bauarbeiter-pasta-machen-eine-koestliche-baustelle-der-extraklasse/ - Artikel vom: Sa.\, 9. August 2025\, 12:17:27 - Einleitung\n \nWer sagt\, dass Bauarbeiter nur Häuser\, Straßen oder Brücken bauen? In unserer kleinen Fantasiewelt haben winzige Bauarbeiter und ihre mächtigen Maschinen eine neue Mission: die Zubereitung von köstlicher Pasta. Vom zarten Spaghetti-Teller über üppige Bolognese-Berge bis hin zur luxuriösen Lasagne-Bolognese mit Béchamel – jede Szene ist ein kulinarisches Bauprojekt der besonderen Art.\n \n\n\n \n\n \n\n \n\n\n \nSpaghetti unter dem Baukran\n \nAlles begann in einer gemütlichen Küche: Miniatur-Bauarbeiter\, ausgestattet mit Helmen\, Warnwesten und jeder Menge Tatendrang\, erklimmen einen Teller voller goldgelber Spaghetti. Mit Bulldozern\, Baggern und sogar einem Kran wird die Pasta geordnet\, umgerührt und mit einem Klecks Tomatensauce verfeinert.\n \nDer Bolognese-Berg\n \nIm nächsten Bauabschnitt wird groß aufgefahren: Ein Teller Spaghetti-Bolognese türmt sich zu einem wahren Monument aus Nudeln und Sauce. Die Bauarbeiter arbeiten Hand in Hand mit ihren Maschinen\, um jeden Strang perfekt zu platzieren.\n \nLasagne-Bolognese im Grünen\n \nDer Schauplatz wechselt ins Freie: Vor einer traumhaften grünen Landschaft entsteht eine Lasagne-Bolognese\, Schicht für Schicht\, akkurat wie ein Architekturprojekt. Jede Lage Nudelteig und Bolognese wird sorgfältig platziert\, während die Maschinen schwere „Lasten“ bewegen.\n \nBéchamel aus dem Betonmischer\n \nDas große Finale: Ein gelber Betonmischer rollt an und verteilt anstelle von Zement eine köstliche Béchamelsoße über die frisch gebaute Lasagne. Die Creme fließt langsam über die Kanten – ein perfekter Abschluss für dieses kulinarische Bauwerk.\n \nFazit\n \nDiese Bilderserie zeigt\, wie kreativ Food-Art sein kann. Sie kombiniert verspielte Miniaturszenen mit appetitlichen Gerichten und erzählt gleichzeitig eine humorvolle Geschichte. Perfekt für alle\, die Pasta lieben – und ein Faible für Baustellenromantik haben.\n \nDie #KI (in dem Fall die Bezahlversionen machen mit ChatGPT 5 hervorragende Ergebnisse\, wie diese fiktive Story zeigt.
LOCATION:https://wp.pbcs.de
CATEGORIES:Gelbe Kategorie
TRANSP:TRANSPARENT
X-MICROSOFT-CDO-BUSYSTATUS:FREE
SEQUENCE:0
CLASS:PUBLIC
PRIORITY:1
DTSTART:20260425T070000Z
DTEND:20260425T080000Z
BEGIN:VALARM
TRIGGER:-PT30M
ACTION:DISPLAY
DESCRIPTION:Reminder for Wenn Bauarbeiter Pasta machen: eine köstliche Baustelle der Extraklasse
END:VALARM
END:VEVENT
END:VCALENDAR
