BEGIN:VCALENDAR
VERSION:2.0
METHOD:PUBLISH
PRODID:- PBCS IT-News //NONSGML Events //EN
CALSCALE:GREGORIAN
X-WR-CALNAME:ICAL-BLOG
BEGIN:VEVENT
UID:92a7c4ee-af83-4fed-97d5-70165d757d9e
DTSTAMP:20260419T134708Z
CREATED:20260419T134708Z
SUMMARY:Welcher Internet-Browser erfordert die wenigste Pflege
DESCRIPTION:https://wp.pbcs.de/welcher-internet-browser-erfordert-die-wenigste-pflege/ - Artikel vom: So.\, 23. Dezember 2018\, 13:02:01 - #FAQ: Derzeit ist das Google Chrome für Enterprise. Der Browser basiert auf dem quelloffenen Chromium Projekt und hat "Webkit" als Rendering-Engine. Webkit stellt die meisten Webseiten norm-konform dar. Als Administrator kann man folgende Dinge vollautomatisch ablaufen lassen: :J Adobe Flash Player von allen Systemen entfernen (Chrome interner Flashplayer ist immer etwa 7-8 Tage aktueller) :J Adobe Acrobat Reader oder anderen PDF-Reader deinstallieren und die PDF-Endung mit Chrome verknüpfen (Chrome hat einen eingebauten Flash Player\, der auch Formulare ausfüllen kann) Das spart eine Menge Arbeit\, da sich die Plugins automatisch aktualisieren. Zum Installieren sollte man den MSI Installer der Enterprise-Version verwenden. Zusätzlich können in den Central Store des Active Directory Gruppenrichtlinien-Vorlagen importiert und konfiguriert werden\, die den Einsatz im Unternehmen und die Einstellungen des Browsers zielgenau steuern lassen. (Post ID:1218)
LOCATION:https://wp.pbcs.de
CATEGORIES:Gelbe Kategorie
TRANSP:TRANSPARENT
X-MICROSOFT-CDO-BUSYSTATUS:FREE
SEQUENCE:0
CLASS:PUBLIC
PRIORITY:1
DTSTART:20260415T070000Z
DTEND:20260415T080000Z
BEGIN:VALARM
TRIGGER:-PT30M
ACTION:DISPLAY
DESCRIPTION:Reminder for Welcher Internet-Browser erfordert die wenigste Pflege
END:VALARM
END:VEVENT
END:VCALENDAR
