BEGIN:VCALENDAR
VERSION:2.0
METHOD:PUBLISH
PRODID:- PBCS IT-News //NONSGML Events //EN
CALSCALE:GREGORIAN
X-WR-CALNAME:ICAL-BLOG
BEGIN:VEVENT
UID:5b621574-edb5-4ec1-9bbc-eb936bd5e93a
DTSTAMP:20260421T093153Z
CREATED:20260421T093153Z
SUMMARY:Welche Version von Windows ist die Aktuelle
DESCRIPTION:https://wp.pbcs.de/welche-version-von-windows-ist-die-aktuelle/ - Artikel vom: Fr.\, 9. Februar 2018\, 15:55:02 - #FAQ: Da Microsoft 2x pro Jahr\, im April und im Oktober ein Windows Upgrade herausbringt\, lässt sich leicht herausfinden\, ob die installierte Version aktuell ist: Die Versionsnummer 1709 bedeutet: Jahr 2017\, Monat September. Erscheinungstag ist der Patchday des folgemonats\, also Oktober 2017. Im Frühjahr ist die Version 1803 fällig\, d.h. im April 2018 muss die Version 1803 installiert und mit "Winver" angezeigt werden. Die Formel dazu lautet: Version aktuell = [Aktuelles Jahr][AktuellerMonat>03 oder AktuellerMonat 10] (Post ID:1200)
LOCATION:https://wp.pbcs.de
CATEGORIES:Gelbe Kategorie
TRANSP:TRANSPARENT
X-MICROSOFT-CDO-BUSYSTATUS:FREE
SEQUENCE:0
CLASS:PUBLIC
PRIORITY:1
DTSTART:20260415T070000Z
DTEND:20260415T080000Z
BEGIN:VALARM
TRIGGER:-PT30M
ACTION:DISPLAY
DESCRIPTION:Reminder for Welche Version von Windows ist die Aktuelle
END:VALARM
END:VEVENT
END:VCALENDAR
