BEGIN:VCALENDAR
VERSION:2.0
METHOD:PUBLISH
PRODID:- PBCS IT-News //NONSGML Events //EN
CALSCALE:GREGORIAN
X-WR-CALNAME:ICAL-BLOG
BEGIN:VEVENT
UID:f3cc94fe-6f76-45df-982c-ceccf5682e4d
DTSTAMP:20260421T143812Z
CREATED:20260421T143812Z
SUMMARY:Welche Aufgaben hat ein IT-Administrator
DESCRIPTION:https://wp.pbcs.de/welche-aufgaben-hat-ein-it-administrator/ - Artikel vom: Mo.\, 12. Februar 2018\, 14:13:04 - #FAQ: Als ausgebildeter und zertifizierter IT-Administrator verstehen und administrieren Sie die Zusammenhänge auf Hardware- und Software-Ebene\, die zum reibungslosen Betrieb Ihrer Firmen-EDV-Umgebung erforderlich sind. Darüber hinaus hilft das Wissen Ihnen\, die Mindestvoraussetzungen vom Grundschutz-Katalog 200-1 des Bundesministeriums für Sicherheit und Informationstechnik (BSI) zu erfüllen. :J Sie schützen Ihre Mitarbeiter besser vor aktiven Bedrohungen und kennen die Wesentlichen Rechtsrisiken. Aber auch für die tägliche Arbeit ist es wichtig\, wirksame Werkzeuge und optimierte Administrations-Verfahren einzusetzen\, um den Zeitbedarf zu minimieren. :J Hierzu gibt es zahlreiche Schulungen\, die Wissen und Werkzeuge vermitteln (Post ID:1206)
LOCATION:https://wp.pbcs.de
CATEGORIES:Gelbe Kategorie
TRANSP:TRANSPARENT
X-MICROSOFT-CDO-BUSYSTATUS:FREE
SEQUENCE:0
CLASS:PUBLIC
PRIORITY:1
DTSTART:20260415T070000Z
DTEND:20260415T080000Z
BEGIN:VALARM
TRIGGER:-PT30M
ACTION:DISPLAY
DESCRIPTION:Reminder for Welche Aufgaben hat ein IT-Administrator
END:VALARM
END:VEVENT
END:VCALENDAR
