BEGIN:VCALENDAR
VERSION:2.0
METHOD:PUBLISH
PRODID:- PBCS IT-News //NONSGML Events //EN
CALSCALE:GREGORIAN
X-WR-CALNAME:ICAL-BLOG
BEGIN:VEVENT
UID:f680b8ae-715e-4f46-bb22-5c65ff06a382
DTSTAMP:20260424T070530Z
CREATED:20260424T070530Z
SUMMARY:Website – Veranstaltungen und Termine planen
DESCRIPTION:https://wp.pbcs.de/website-veranstaltungen-und-termine-planen/ - Artikel vom: So.\, 4. September 2005\, 20:55:29 - Veranstaltungen planen Belegtanzeige im Kalender\, Überbuchungsanzeige farbig\, Übername von Daten aus Seminarkatalog\, mit Terminwünschen als Datenbank nun mit Teilnehmerlisten\, Mehrere Tabellen sind sortierbar\, Kalenderdarstellung und Terminübernahme (Buchungsdialog)\, Auswertungslisten\, Volltextsuche\, Jet-Datenbankzugriff (edit: 10.07.2005 19:30:56\, 31.07.2005 12:58:46\, 01.08.2005 20:27:05) (edit: 21.08.2005 19:54:52) (Post ID:45)
LOCATION:https://wp.pbcs.de
CATEGORIES:Gelbe Kategorie
TRANSP:TRANSPARENT
X-MICROSOFT-CDO-BUSYSTATUS:FREE
SEQUENCE:0
CLASS:PUBLIC
PRIORITY:1
DTSTART:20260424T070000Z
DTEND:20260424T080000Z
BEGIN:VALARM
TRIGGER:-PT30M
ACTION:DISPLAY
DESCRIPTION:Reminder for Website – Veranstaltungen und Termine planen
END:VALARM
END:VEVENT
END:VCALENDAR
