BEGIN:VCALENDAR
VERSION:2.0
METHOD:PUBLISH
PRODID:- PBCS IT-News //NONSGML Events //EN
CALSCALE:GREGORIAN
X-WR-CALNAME:ICAL-BLOG
BEGIN:VEVENT
UID:4a42b448-38e8-4c33-a8d2-d2b38bf29199
DTSTAMP:20260425T151328Z
CREATED:20260425T151328Z
SUMMARY:Website – Urheberrecht-Notizen
DESCRIPTION:https://wp.pbcs.de/website-urheberrecht-notizen/ - Artikel vom: Mo.\, 30. August 2004\, 11:00:00 - Urheberrecht bei Internetauftritten (Post ID:61)
LOCATION:https://wp.pbcs.de
CATEGORIES:Gelbe Kategorie
TRANSP:TRANSPARENT
X-MICROSOFT-CDO-BUSYSTATUS:FREE
SEQUENCE:0
CLASS:PUBLIC
PRIORITY:1
DTSTART:20260426T070000Z
DTEND:20260426T080000Z
BEGIN:VALARM
TRIGGER:-PT30M
ACTION:DISPLAY
DESCRIPTION:Reminder for Website – Urheberrecht-Notizen
END:VALARM
END:VEVENT
END:VCALENDAR
