BEGIN:VCALENDAR
VERSION:2.0
METHOD:PUBLISH
PRODID:- PBCS IT-News //NONSGML Events //EN
CALSCALE:GREGORIAN
X-WR-CALNAME:ICAL-BLOG
BEGIN:VEVENT
UID:d7dcfa13-5c4e-417f-9cea-32d2b687f602
DTSTAMP:20260421T111319Z
CREATED:20260421T111319Z
SUMMARY:Website – Blog-Nachrichten nun auf Twitter
DESCRIPTION:https://wp.pbcs.de/website-blog-nachrichten-nun-auf-twitter/ - Artikel vom: So.\, 24. Oktober 2010\, 13:48:25 - Alle IT-Nachrichten können Sie nun auch auf Twitter verfolgen: Twitter-Link oder oder das blaue Twitter-Symbol auf unserer Startseite (Post ID:689)
LOCATION:https://wp.pbcs.de
CATEGORIES:Gelbe Kategorie
TRANSP:TRANSPARENT
X-MICROSOFT-CDO-BUSYSTATUS:FREE
SEQUENCE:0
CLASS:PUBLIC
PRIORITY:1
DTSTART:20260309T080000Z
DTEND:20260309T090000Z
BEGIN:VALARM
TRIGGER:-PT30M
ACTION:DISPLAY
DESCRIPTION:Reminder for Website – Blog-Nachrichten nun auf Twitter
END:VALARM
END:VEVENT
END:VCALENDAR
