BEGIN:VCALENDAR
VERSION:2.0
METHOD:PUBLISH
PRODID:- PBCS IT-News //NONSGML Events //EN
CALSCALE:GREGORIAN
X-WR-CALNAME:ICAL-BLOG
BEGIN:VEVENT
UID:f6372b06-0bb3-41d0-bfb5-113c6cb7bd62
DTSTAMP:20260422T001040Z
CREATED:20260422T001040Z
SUMMARY:Warenkorb
DESCRIPTION:https://wp.pbcs.de/warenkorb/ - Artikel vom: Mo.\, 28. Oktober 2024\, 21:14:43 - [woocommerce_cart]
LOCATION:https://wp.pbcs.de
CATEGORIES:Gelbe Kategorie
TRANSP:TRANSPARENT
X-MICROSOFT-CDO-BUSYSTATUS:FREE
SEQUENCE:0
CLASS:PUBLIC
PRIORITY:1
DTSTART:20260422T070000Z
DTEND:20260422T080000Z
BEGIN:VALARM
TRIGGER:-PT30M
ACTION:DISPLAY
DESCRIPTION:Reminder for Warenkorb
END:VALARM
END:VEVENT
END:VCALENDAR
