BEGIN:VCALENDAR
VERSION:2.0
METHOD:PUBLISH
PRODID:- PBCS IT-News //NONSGML Events //EN
CALSCALE:GREGORIAN
X-WR-CALNAME:ICAL-BLOG
BEGIN:VEVENT
UID:8493e3ed-7e90-4895-ba21-c7cdd5131e24
DTSTAMP:20260421T125605Z
CREATED:20260421T125605Z
SUMMARY:Von PetaBytes und Exabytes
DESCRIPTION:https://wp.pbcs.de/von-petabytes-und-exabytes/ - Artikel vom: Mi.\, 25. Januar 2023\, 14:10:18 - Im Bild sieht man den Grund\, warum Mozilla Firefox nicht empfohlen wird. Wenn man mal den Platzbedarf betrachtet\, den allein die Firefox-Tracking-Cookies benötigen\, machen die 7 Exabyte rund ein Viertel Promille des weltweiten Datenbestands aus. Das waren rund 33.000 Exabytes in 2019.\n \nAls (Standard HDD) Cloudspeicher angemietet kostet das rund 30.000.000 € pro Monat\, als (Premium SSD) etwa 4x so viel. Also etwa wie die Porto-Kasse von E. M.\n \nbig big data\n \n\n\n8 Bits – also acht binäre Informationen – sind ein Byte.\n \n1024 Bytes sind ein Kilobyte (KB\, KBbyte).\n \n1024 Kilobytes sind ein Megabyte (MB\, MByte).\n \n1024 Megabytes sind ein Gigabyte (GB\, GByte).\n \n1024 Gigabytes sind ein Terabyte (TB\, TByte).\n \n1024 Terabytes sind ein Petabyte (PB\, PByte).\n \n1024 Petabytes sind ein Exabyte (EB\, EByte).\n \n1024 Exabytes sind ein Zettabyte (ZB\, ZByte).\n \n1024 Zettabytes sind ein Yottabyte (YB\, YByte\, Yobibyte).
LOCATION:https://wp.pbcs.de
CATEGORIES:Gelbe Kategorie
TRANSP:TRANSPARENT
X-MICROSOFT-CDO-BUSYSTATUS:FREE
SEQUENCE:0
CLASS:PUBLIC
PRIORITY:1
DTSTART:20260415T070000Z
DTEND:20260415T080000Z
BEGIN:VALARM
TRIGGER:-PT30M
ACTION:DISPLAY
DESCRIPTION:Reminder for Von PetaBytes und Exabytes
END:VALARM
END:VEVENT
END:VCALENDAR
