BEGIN:VCALENDAR
VERSION:2.0
METHOD:PUBLISH
PRODID:- PBCS IT-News //NONSGML Events //EN
CALSCALE:GREGORIAN
X-WR-CALNAME:ICAL-BLOG
BEGIN:VEVENT
UID:b04f49a7-5444-4cf8-987e-2208d847e6c0
DTSTAMP:20260421T125619Z
CREATED:20260421T125619Z
SUMMARY:veeam – Sicherheitslücke – V12 erforderlich
DESCRIPTION:https://wp.pbcs.de/veeam-sicherheitsluecke/ - Artikel vom: Mi.\, 23. August 2023\, 15:28:22 - Eine Datensicherungssoftware muss immer den aktuellen Stand haben\, denn bei einem Befall aufgrund einer Sicherheitslücke in der Software wären im schlimmsten Fall ein Datenverlust oder Datendiebstahl verbunden.\n \nBei veeam hat die Sicherheitslücke\, vor der die CISA derzeit warnt\, ein Ranking von 7.5 von 10 auf der Schadensskala. Problem ist der Prozess Veeam.Backup.Service.exe\, der auf TCP-Port 9401 reagiert. Angreifer können verschlüsselte Anmeldeinformationen herausbekommen und Zugriffe auf Backup-Infrastruktur-Hosts stattfinden\, schreiben die Entwickler von veeam.\n \nNeu dabei ist\, dass man nun auch Version 11 mit aktuellem Patchlevel auf Version 12 anheben muss. Erst mit Version Build 12.0.0.1420 P20230223 oder neuer ist diese Lücke sicher geschlossen.\n \n\n#Wichtig - Bitte aktualisieren Sie Ihre veeam-Installationen auf die aktuelle 12er Version oder lassen sie aktualisieren.\nhttps://www.veeam.com/kb4424
LOCATION:https://wp.pbcs.de
CATEGORIES:Gelbe Kategorie
TRANSP:TRANSPARENT
X-MICROSOFT-CDO-BUSYSTATUS:FREE
SEQUENCE:0
CLASS:PUBLIC
PRIORITY:1
DTSTART:20260415T070000Z
DTEND:20260415T080000Z
BEGIN:VALARM
TRIGGER:-PT30M
ACTION:DISPLAY
DESCRIPTION:Reminder for veeam – Sicherheitslücke – V12 erforderlich
END:VALARM
END:VEVENT
END:VCALENDAR
