BEGIN:VCALENDAR
VERSION:2.0
METHOD:PUBLISH
PRODID:- PBCS IT-News //NONSGML Events //EN
CALSCALE:GREGORIAN
X-WR-CALNAME:ICAL-BLOG
BEGIN:VEVENT
UID:18f7fd25-d333-4722-9a2a-d8e61a9acb15
DTSTAMP:20260419T162334Z
CREATED:20260419T162334Z
SUMMARY:Unifi Ubiquiti WLAN Access Point AC Pro Test
DESCRIPTION:https://wp.pbcs.de/unifi-ubiquiti-wlan-access-point-ac-pro-test/ - Artikel vom: Sa.\, 27. Juni 2020\, 17:04:05 - ich habe in letzter Zeit häufiger in Kunden-Umgebungen das abgebildete Gerät (oder mehrere davon im Verbund) gesehen und von den Admins wurde nur positiv berichtet.Rechtzeitig zum Support-Ende meines CISCO Access Points mit 2.4GHz und n-Standard stand die Anschaffung des #Unifi WLAN AC PRO auf dem Programm. Hier die ersten Erfahrungen damit:\n \nUnboxing\n \nDie neue Verpackung ist umweltfreundlicher (viel Pappe\, wenig Plastik) und nur noch halb so hoch wie der Karton früher. Sie enthält:\n \n\n1 PoE-Adapter (wer keinen Power-over-Ethernet Switch sein eigen nennt\, kann die benötigten 48V vor dem Gerät ins Netzwerkkabel einspeisen\n \nDer AP selbst (fliegende Untertasse in weiß)\n \nBefestigungsschiene und Schrauben für Wand- oder Decken-Befestigung\n \nEine Kurzanleitung ist nicht in der Packung\, aber im Internet zu finden. Ohne diese kommt man nicht unbedingt drauf\, dass man nach Entfernen des unteren Rings (der sich wie bei einem Rauchmelder durch entriegeln und drehen lösen lässt) noch einen größeren Gummipropfen entfernen muss\, um die Netzwerkanschlüsse freizulegen. Das Gummi dient dem Witterungsschutz\, wenn man das Gerät (das darf man laut Hersteller) im Außenbereich z. B. unter dem Dach montiert. Die offene Freilandmontage wird nicht unterstützt - ist also kein outdoor-device\, darf aber aussen montiert werden.\n\n \nHightlights\n \n\nNeben dem Gigabit Netzwerkanschluss ist im Access Point ein kleiner Switch eingebaut\, der einen zweiten Gigabit--Port enthält. So kann man einen vorhandenen Netzwerk-Anschluss nehmen\, wo schon ein Endgerät arbeitet und den AC Pro dazwischen hängen.\n \nDie Funkleistung ist trotz integrierter Flächen-Antennen um einiges höher als bei vergleichbaren Produkten.\n \nEine vielzahl von Einstellungen lassen sich auf (automatisch optimieren) oder explizit setzen\n \nVLANs sind ebenso möglich\, wie die Gruppenbildung von Endgeräten (z. B. alle 5GHz-fähigen Geräte bevorzugt mit diesem Netzwerk versorgen\, Bandwith steering und weiteres\n\n \nBesonderheiten - was ist anders?\n \nNach dem Auspacken zunächst ein Schreck: Die Access Points haben keine Weboberfläche (integrierter Webserver im Gerät)\, wie man das sonst von Access points kennt\, sondern lassen sich entweder über die Cloud oder eine lokal installierte Controller Software konfigurieren und verwalten.Lädt man sich das 140 MB große Windows Paket runter\, kommt der Hinweis\, dass man JAVA benötigt und der Installer führt einen auf die Oracle Seite. Da Java aber für geschäftliche Nutzung seit Version Java 8U211 monatliche Gebühren kostet\, wäre das nicht gut. Im Übrigen möchte ich für ein Sicherheits-Gerät im lokalen Netzwerk kein Unifi Account erstellen und somit deren Server an mein internes Netz anschließen.\n \nAlles wird wieder gut\n \n\nDer erste Eindruck täuscht\, wenn man weiß\, das die Unifi Controller Software kein Oracle Java benötigt und dann man auch kein Cloud-Konto anlegen muss:\n \nAdopt OpenJDK 8 Update 252 (64-Bit\, Long Term Support) ist die aktuell sichere Open-Source JAVA-Basis\, die über ein Setup verfügt und dem Unifi Controller ausreicht. (Bitte beim Installieren alles außer Iced-Tea ankreuzen)\n \nStatt eines Cloud-Kontos kann man den Controller über einen lokalen oder Domain Benutzer absichern\n \nDie Installation auf einem Server ist möglich\n \nDie Controller Software kann als Windows Service automatisch mit dem Server starten (Anleitung dazu auf den Unifi Seiten)\n \nFirmware-Updates und Controller Software lassen sich nach Zeitplan einsetzen. Bei Betrieb als Windows Dienst muss zum Aktualisieren nur kurz der Unifi Dienst gestoppt werden\, ein Deinstallieren des Dienstes ist entgegen der Anleitung nicht notwendig.\n\n \nEine weitere gute Nachricht: Nutzt man die Controller-Software nicht als Syslog-Server und für Features\, die nicht im AP enthalten sind (also wenn man den AP als reinen Access Point nutzt)\, braucht man die Controller Software nur dann zu starten\, wenn man Messen\, Diagnose betreiben oder was konfigurieren möchte.\n \nDen Controller als Windows Dienst einrichten:\n \ntitle unifi install as a windows service\necho *** in eingabeaufforderung (admin) ausfuehren - installiert unifi controller\necho * vor einem update der controller software den Dienst Unifi controller stoppen\necho * Browserzugriff: https://servername:8443\npause cd "%UserProfile%\\Ubiquiti UniFi\\"\njava -jar lib\\ace.jar installsvc\nrem *** optional - Deinstallation des Dienstes\nrem cd "%UserProfile%\\Ubiquiti UniFi\\"\nrem java -jar lib\\ace.jar uninstallsvc\n\n \nFazit\n \nStarke Funkleistung trotz Flächen-Antennen\, aktuelle Funkstandards\, die von der breiten Masse als Standard verfügbar ist (bis zu 866 MBit Datenübertragung auf 5 GHz Band\, wenn die Bedingungen optimal sind\, ansonsten zwischen 100 und 200 MBit im Durchschnitt bei weiterer Entfernung und vielen Nachbarn mit WLAN.Mit einem Listenpreis von ca. 115 € netto ist das Preis-Leistungs-Verhältnis sehr gut. Nachdem man den ersten Schrecken der ungewohnten Konstellation und mit Java überwunden hat\, wieder alle Daumen hoch für das Produkt.
LOCATION:https://wp.pbcs.de
CATEGORIES:Gelbe Kategorie
TRANSP:TRANSPARENT
X-MICROSOFT-CDO-BUSYSTATUS:FREE
SEQUENCE:0
CLASS:PUBLIC
PRIORITY:1
DTSTART:20260309T080000Z
DTEND:20260309T090000Z
BEGIN:VALARM
TRIGGER:-PT30M
ACTION:DISPLAY
DESCRIPTION:Reminder for Unifi Ubiquiti WLAN Access Point AC Pro Test
END:VALARM
END:VEVENT
END:VCALENDAR
