BEGIN:VCALENDAR
VERSION:2.0
METHOD:PUBLISH
PRODID:- PBCS IT-News //NONSGML Events //EN
CALSCALE:GREGORIAN
X-WR-CALNAME:ICAL-BLOG
BEGIN:VEVENT
UID:0444ca1c-1e42-4589-a3a0-2d362f16555a
DTSTAMP:20260422T001801Z
CREATED:20260422T001801Z
SUMMARY:Umfrage-Ergebnisse
DESCRIPTION:https://wp.pbcs.de/umfrage-ergebnisse/ - Artikel vom: Mo.\, 1. September 2025\, 16:15:23 - Alle WPDoodlez Langzeit-Umfragen\n \n[wpdoodlez_stats]\n \nAlle Terminabstimmungen\n \n[wpdoodlez_stats type="doodlez"]
LOCATION:https://wp.pbcs.de
CATEGORIES:Gelbe Kategorie
TRANSP:TRANSPARENT
X-MICROSOFT-CDO-BUSYSTATUS:FREE
SEQUENCE:0
CLASS:PUBLIC
PRIORITY:1
DTSTART:20260422T070000Z
DTEND:20260422T080000Z
BEGIN:VALARM
TRIGGER:-PT30M
ACTION:DISPLAY
DESCRIPTION:Reminder for Umfrage-Ergebnisse
END:VALARM
END:VEVENT
END:VCALENDAR
