BEGIN:VCALENDAR
VERSION:2.0
METHOD:PUBLISH
PRODID:- PBCS IT-News //NONSGML Events //EN
CALSCALE:GREGORIAN
X-WR-CALNAME:ICAL-BLOG
BEGIN:VEVENT
UID:336261c2-34c1-498a-9128-ad6c1e11bb23
DTSTAMP:20260420T110445Z
CREATED:20260420T110445Z
SUMMARY:Externe Links
DESCRIPTION:https://wp.pbcs.de/u/ - Artikel vom: Sa.\, 28. Juni 2025\, 14:00:11 - Externe Links
LOCATION:https://wp.pbcs.de
CATEGORIES:Gelbe Kategorie
TRANSP:TRANSPARENT
X-MICROSOFT-CDO-BUSYSTATUS:FREE
SEQUENCE:0
CLASS:PUBLIC
PRIORITY:1
DTSTART:20260421T070000Z
DTEND:20260421T080000Z
BEGIN:VALARM
TRIGGER:-PT30M
ACTION:DISPLAY
DESCRIPTION:Reminder for Externe Links
END:VALARM
END:VEVENT
END:VCALENDAR
