BEGIN:VCALENDAR
VERSION:2.0
METHOD:PUBLISH
PRODID:- PBCS IT-News //NONSGML Events //EN
CALSCALE:GREGORIAN
X-WR-CALNAME:ICAL-BLOG
BEGIN:VEVENT
UID:2e1d27bc-4e9c-498b-b854-dbac52d663b1
DTSTAMP:20260421T141917Z
CREATED:20260421T141917Z
SUMMARY:Timer und Countdown
DESCRIPTION:https://wp.pbcs.de/timer/ - Artikel vom: Do.\, 18. September 2025\, 22:56:21 - 
LOCATION:https://wp.pbcs.de
CATEGORIES:Gelbe Kategorie
TRANSP:TRANSPARENT
X-MICROSOFT-CDO-BUSYSTATUS:FREE
SEQUENCE:0
CLASS:PUBLIC
PRIORITY:1
DTSTART:20260421T123353Z
DTEND:20260421T133353Z
BEGIN:VALARM
TRIGGER:-PT30M
ACTION:DISPLAY
DESCRIPTION:Reminder for Timer und Countdown
END:VALARM
END:VEVENT
END:VCALENDAR
