BEGIN:VCALENDAR
VERSION:2.0
METHOD:PUBLISH
PRODID:- PBCS IT-News //NONSGML Events //EN
CALSCALE:GREGORIAN
X-WR-CALNAME:ICAL-BLOG
BEGIN:VEVENT
UID:3e78e477-a31d-43ec-a24b-2900e0ec039b
DTSTAMP:20260419T150042Z
CREATED:20260419T150042Z
SUMMARY:Timer und Countdown
DESCRIPTION:https://wp.pbcs.de/timer/ - Artikel vom: Do.\, 18. September 2025\, 22:56:21 - 
LOCATION:https://wp.pbcs.de
CATEGORIES:Gelbe Kategorie
TRANSP:TRANSPARENT
X-MICROSOFT-CDO-BUSYSTATUS:FREE
SEQUENCE:0
CLASS:PUBLIC
PRIORITY:1
DTSTART:20260419T094556Z
DTEND:20260419T104556Z
BEGIN:VALARM
TRIGGER:-PT30M
ACTION:DISPLAY
DESCRIPTION:Reminder for Timer und Countdown
END:VALARM
END:VEVENT
END:VCALENDAR
