BEGIN:VCALENDAR
VERSION:2.0
METHOD:PUBLISH
PRODID:- PBCS IT-News //NONSGML Events //EN
CALSCALE:GREGORIAN
X-WR-CALNAME:ICAL-BLOG
BEGIN:VEVENT
UID:8aa452f3-f6f6-4517-b709-dc38b9bcffce
DTSTAMP:20260419T130239Z
CREATED:20260419T130239Z
SUMMARY:Timer und Countdown
DESCRIPTION:https://wp.pbcs.de/timer/ - Artikel vom: Do.\, 18. September 2025\, 22:56:21 - 
LOCATION:https://wp.pbcs.de
CATEGORIES:Gelbe Kategorie
TRANSP:TRANSPARENT
X-MICROSOFT-CDO-BUSYSTATUS:FREE
SEQUENCE:0
CLASS:PUBLIC
PRIORITY:1
DTSTART:20260418T070000Z
DTEND:20260418T080000Z
BEGIN:VALARM
TRIGGER:-PT30M
ACTION:DISPLAY
DESCRIPTION:Reminder for Timer und Countdown
END:VALARM
END:VEVENT
END:VCALENDAR
