BEGIN:VCALENDAR
VERSION:2.0
METHOD:PUBLISH
PRODID:- PBCS IT-News //NONSGML Events //EN
CALSCALE:GREGORIAN
X-WR-CALNAME:ICAL-BLOG
BEGIN:VEVENT
UID:8c458784-478a-435a-b3bc-cfe90c2a601e
DTSTAMP:20260419T163730Z
CREATED:20260419T163730Z
SUMMARY:Timer und Countdown
DESCRIPTION:https://wp.pbcs.de/timer/ - Artikel vom: Do.\, 18. September 2025\, 22:56:21 - 
LOCATION:https://wp.pbcs.de
CATEGORIES:Gelbe Kategorie
TRANSP:TRANSPARENT
X-MICROSOFT-CDO-BUSYSTATUS:FREE
SEQUENCE:0
CLASS:PUBLIC
PRIORITY:1
DTSTART:20260417T083958Z
DTEND:20260417T093958Z
BEGIN:VALARM
TRIGGER:-PT30M
ACTION:DISPLAY
DESCRIPTION:Reminder for Timer und Countdown
END:VALARM
END:VEVENT
END:VCALENDAR
