BEGIN:VCALENDAR
VERSION:2.0
METHOD:PUBLISH
PRODID:- PBCS IT-News //NONSGML Events //EN
CALSCALE:GREGORIAN
X-WR-CALNAME:ICAL-BLOG
BEGIN:VEVENT
UID:cd451283-f035-40d0-a85f-4e551299227c
DTSTAMP:20260420T110440Z
CREATED:20260420T110440Z
SUMMARY:Teams – One Version 2.1
DESCRIPTION:https://wp.pbcs.de/teams-one-version-2-1/ - Artikel vom: Mo.\, 13. Mai 2024\, 16:28:52 - Kurz notiert: Im aktuellen "Release Preview Ring" hat Microsoft das "Teams personal" Installationspaket stillgelegt. Installiert oder aktualisiert man den in Windows 11 enthaltenen Teams 2.0 free = personal Client\, ruft dieser nur noch den Teams (neu) 2.1 Client auf. Man kann also die Teams-App mit dem lila T auf weißem Untergrund deinstallieren.\n \nStattdessen kann man im neuen #Teams 2.1 Client (ab Version 24131.2300.2871.3804) über das Profilbild zusätzlich\, oder wenn man kein Geschäftskonto hat nur ein Microsoft Konto (personal) dort eintragen. An Besprechungen kann man hingegen auch ohne ein Microsoft- oder Geschäftskonto teilnehmen. Man klickt dann einfach auf "an Besprechung teilnehmen" und gibt die Zugangsdaten aus dem Link ein - oder Teams startet über die Verknüpfung. Erkennbar ist die neue App auch daran\, dass sie nicht mehr den "Teams (work or school)" Titel führt\, sondern nur noch "Teams"\n \n\n\n \nFazit: Ab der oben genannten Version\, die vermutlich mit dem Patchday im Juni 2024 für Alle verteilt wird\, können die "Teams free" oder "Teams personal" App und die klassische (lila) Teams App vom Rechner deinstalliert werden.\n \nMan installiert dann am Besten das neue Teams mit diesem Logo:\nQuelle: Microsoft Blog\n \n[linkbutton link="https://go.microsoft.com/fwlink/?linkid=2196106&clcid=0x407&culture=de-de&country=de" label="Teams 2.1 direkter Download-Link"]
LOCATION:https://wp.pbcs.de
CATEGORIES:Gelbe Kategorie
TRANSP:TRANSPARENT
X-MICROSOFT-CDO-BUSYSTATUS:FREE
SEQUENCE:0
CLASS:PUBLIC
PRIORITY:1
DTSTART:20260421T070000Z
DTEND:20260421T080000Z
BEGIN:VALARM
TRIGGER:-PT30M
ACTION:DISPLAY
DESCRIPTION:Reminder for Teams – One Version 2.1
END:VALARM
END:VEVENT
END:VCALENDAR
