BEGIN:VCALENDAR
VERSION:2.0
METHOD:PUBLISH
PRODID:- PBCS IT-News //NONSGML Events //EN
CALSCALE:GREGORIAN
X-WR-CALNAME:ICAL-BLOG
BEGIN:VEVENT
UID:008ea56e-de37-4a8f-8841-fa4672f74593
DTSTAMP:20260419T144806Z
CREATED:20260419T144806Z
SUMMARY:Tagebuch
DESCRIPTION:https://wp.pbcs.de/tagebuch/ - Artikel vom: Do.\, 1. Mai 2003\, 11:30:00 - Technischer Bericht: Auslandseinwahl mit T-Online (Post ID:515)
LOCATION:https://wp.pbcs.de
CATEGORIES:Gelbe Kategorie
TRANSP:TRANSPARENT
X-MICROSOFT-CDO-BUSYSTATUS:FREE
SEQUENCE:0
CLASS:PUBLIC
PRIORITY:1
DTSTART:20260415T070000Z
DTEND:20260415T080000Z
BEGIN:VALARM
TRIGGER:-PT30M
ACTION:DISPLAY
DESCRIPTION:Reminder for Tagebuch
END:VALARM
END:VEVENT
END:VCALENDAR
