BEGIN:VCALENDAR
VERSION:2.0
METHOD:PUBLISH
PRODID:- PBCS IT-News //NONSGML Events //EN
CALSCALE:GREGORIAN
X-WR-CALNAME:ICAL-BLOG
BEGIN:VEVENT
UID:dcbc9cb8-7393-4111-82ec-3150e4d1d301
DTSTAMP:20260424T221303Z
CREATED:20260424T221303Z
SUMMARY:Suns Java 6 muss auf Patchlevel 15 gebracht werden
DESCRIPTION:https://wp.pbcs.de/suns-java-6-muss-auf-patchlevel-15-gebracht-werden/ - Artikel vom: Sa.\, 1. August 2009\, 12:28:50 - denn auch hier wurden wieder Sicherheitslücken festgestellt. (JRE 6.0 Update 15 ist nun die aktuelle Version) Adobe Updates für Flash-ActiveX schließen wichtige Sicherheitslücken. Selbst auf Systemen\, wo nur der von Windows mitgelieferte Flashplayer ist\, muss das Update kurzfristig eingespielt werden. Ansonsten ist die Gefahr sehr hoch\, sich beim Surfen Trojaner und anderes Schädlingszeug einzufangen. Bitte alle Systeme aktualisieren. (Post ID:677)
LOCATION:https://wp.pbcs.de
CATEGORIES:Gelbe Kategorie
TRANSP:TRANSPARENT
X-MICROSOFT-CDO-BUSYSTATUS:FREE
SEQUENCE:0
CLASS:PUBLIC
PRIORITY:1
DTSTART:20260425T070000Z
DTEND:20260425T080000Z
BEGIN:VALARM
TRIGGER:-PT30M
ACTION:DISPLAY
DESCRIPTION:Reminder for Suns Java 6 muss auf Patchlevel 15 gebracht werden
END:VALARM
END:VEVENT
END:VCALENDAR
