BEGIN:VCALENDAR
VERSION:2.0
METHOD:PUBLISH
PRODID:- PBCS IT-News //NONSGML Events //EN
CALSCALE:GREGORIAN
X-WR-CALNAME:ICAL-BLOG
BEGIN:VEVENT
UID:3d4bad26-cb15-4039-af9f-fc5af93b1eb6
DTSTAMP:20260424T093754Z
CREATED:20260424T093754Z
SUMMARY:TCM Harmonie Status
DESCRIPTION:https://wp.pbcs.de/spiele/tcm-harmonie-status/ - Artikel vom: Mi.\, 22. April 2026\, 23:16:18 - ☯️ 🎟️ Token erforderlich 📂 Kategorie(n): HEALTH Beantworten Sie 25 Fragen\, um Ihren Fernost-Harmonie-Status wie in TCM zu ermitteln.  jetzt starten (#50)  🧠 Alle Denksport-Aufgaben\, 📲 Rechner und 🛠️ Werkzeuge (Menü)
LOCATION:https://wp.pbcs.de
CATEGORIES:Gelbe Kategorie
TRANSP:TRANSPARENT
X-MICROSOFT-CDO-BUSYSTATUS:FREE
SEQUENCE:0
CLASS:PUBLIC
PRIORITY:1
DTSTART:20260421T070000Z
DTEND:20260421T080000Z
BEGIN:VALARM
TRIGGER:-PT30M
ACTION:DISPLAY
DESCRIPTION:Reminder for TCM Harmonie Status
END:VALARM
END:VEVENT
END:VCALENDAR
