BEGIN:VCALENDAR
VERSION:2.0
METHOD:PUBLISH
PRODID:- PBCS IT-News //NONSGML Events //EN
CALSCALE:GREGORIAN
X-WR-CALNAME:ICAL-BLOG
BEGIN:VEVENT
UID:1a7c5b75-11ad-439d-9aeb-9f9dad9f657f
DTSTAMP:20260421T125400Z
CREATED:20260421T125400Z
SUMMARY:Stein-Puzzle
DESCRIPTION:https://wp.pbcs.de/spiele/stein-puzzle/ - Artikel vom: Mo.\, 20. April 2026\, 18:57:49 - 🪨 🎟️ Token erforderlich 📂 Kategorie(n): STRATEGIE\, BRETTSPIEL Bewege Kieselsteine strategisch\, um das Onlinespiel zu gewinnen. jetzt starten (#21)
LOCATION:https://wp.pbcs.de
CATEGORIES:Gelbe Kategorie
TRANSP:TRANSPARENT
X-MICROSOFT-CDO-BUSYSTATUS:FREE
SEQUENCE:0
CLASS:PUBLIC
PRIORITY:1
DTSTART:20260415T070000Z
DTEND:20260415T080000Z
BEGIN:VALARM
TRIGGER:-PT30M
ACTION:DISPLAY
DESCRIPTION:Reminder for Stein-Puzzle
END:VALARM
END:VEVENT
END:VCALENDAR
