BEGIN:VCALENDAR
VERSION:2.0
METHOD:PUBLISH
PRODID:- PBCS IT-News //NONSGML Events //EN
CALSCALE:GREGORIAN
X-WR-CALNAME:ICAL-BLOG
BEGIN:VEVENT
UID:e3e8abba-3368-4337-a003-32f2adcdcd0c
DTSTAMP:20260424T093752Z
CREATED:20260424T093752Z
SUMMARY:Schulungsunterlagen
DESCRIPTION:https://wp.pbcs.de/schulungsunterlagen/ - Artikel vom: Do.\, 28. November 2024\, 17:54:27 - [ddownload_list orderby="title" style="infoboxlist" categories="dokumente"]
LOCATION:https://wp.pbcs.de
CATEGORIES:Gelbe Kategorie
TRANSP:TRANSPARENT
X-MICROSOFT-CDO-BUSYSTATUS:FREE
SEQUENCE:0
CLASS:PUBLIC
PRIORITY:1
DTSTART:20260419T070000Z
DTEND:20260419T080000Z
BEGIN:VALARM
TRIGGER:-PT30M
ACTION:DISPLAY
DESCRIPTION:Reminder for Schulungsunterlagen
END:VALARM
END:VEVENT
END:VCALENDAR
