BEGIN:VCALENDAR
VERSION:2.0
METHOD:PUBLISH
PRODID:- PBCS IT-News //NONSGML Events //EN
CALSCALE:GREGORIAN
X-WR-CALNAME:ICAL-BLOG
BEGIN:VEVENT
UID:793985e4-2be0-4446-8c9f-339a22e9a821
DTSTAMP:20260421T125630Z
CREATED:20260421T125630Z
SUMMARY:Schulungsunterlagen
DESCRIPTION:https://wp.pbcs.de/schulungsunterlagen/ - Artikel vom: Do.\, 28. November 2024\, 17:54:27 - [ddownload_list orderby="title" style="infoboxlist" categories="dokumente"]
LOCATION:https://wp.pbcs.de
CATEGORIES:Gelbe Kategorie
TRANSP:TRANSPARENT
X-MICROSOFT-CDO-BUSYSTATUS:FREE
SEQUENCE:0
CLASS:PUBLIC
PRIORITY:1
DTSTART:20260418T070000Z
DTEND:20260418T080000Z
BEGIN:VALARM
TRIGGER:-PT30M
ACTION:DISPLAY
DESCRIPTION:Reminder for Schulungsunterlagen
END:VALARM
END:VEVENT
END:VCALENDAR
