BEGIN:VCALENDAR
VERSION:2.0
METHOD:PUBLISH
PRODID:- PBCS IT-News //NONSGML Events //EN
CALSCALE:GREGORIAN
X-WR-CALNAME:ICAL-BLOG
BEGIN:VEVENT
UID:67664f70-a618-4a8b-ba7d-0fc1bec315e2
DTSTAMP:20260421T093057Z
CREATED:20260421T093057Z
SUMMARY:Schulung – Internet Grundlagen
DESCRIPTION:https://wp.pbcs.de/schulung-internet-grundlagen/ - Artikel vom: Mi.\, 8. Oktober 2025\, 00:20:51 - Erlernen Sie in dieser #Schulung die Zusammenhänge und Gefahren bei der Nutzung des Internet und bewegen sich mit Sachverstand und Vorsorge im Netz.\n \nSeminarinhalte (Auswahl)Themenauswahl aus dem Lehrstoff: * Grundlagen des Internet (Historische Einordnung)\, Internet-Technologie.* Web-Browser und Ihre Vorzüge und Nachteile\, Gefahren und Bedrohungen. * Kennwort-Sicherheit\, Programme\, Suchen und Finden\, E-Mail und soziale Medien.* Verfahren im Internet (HTTPS\, SFTP) und Client Programme\, eigene Webseite und Datenschutz-Grundverordnung.Zielgruppe | Max TeilnehmerAnwender/Mitarbeiter | 4VoraussetzungenGrundwissen im Umgang mit PCsZeitrahmenDauer : ca. 3h\, 09:00 bis 12:00 Uhr.Pausen: von 10:30-10:40.VeranstaltungsortRemote via Microsoft TeamsBestellung im Shop\, siehe oben
LOCATION:https://wp.pbcs.de
CATEGORIES:Gelbe Kategorie
TRANSP:TRANSPARENT
X-MICROSOFT-CDO-BUSYSTATUS:FREE
SEQUENCE:0
CLASS:PUBLIC
PRIORITY:1
DTSTART:20260420T070000Z
DTEND:20260420T080000Z
BEGIN:VALARM
TRIGGER:-PT30M
ACTION:DISPLAY
DESCRIPTION:Reminder for Schulung – Internet Grundlagen
END:VALARM
END:VEVENT
END:VCALENDAR
