BEGIN:VCALENDAR
VERSION:2.0
METHOD:PUBLISH
PRODID:- PBCS IT-News //NONSGML Events //EN
CALSCALE:GREGORIAN
X-WR-CALNAME:ICAL-BLOG
BEGIN:VEVENT
UID:cd3bed42-3b31-4712-8e61-76d4e1c97eab
DTSTAMP:20260420T131450Z
CREATED:20260420T131450Z
SUMMARY:Schulung – GAO Ehemaligen Treffen
DESCRIPTION:https://wp.pbcs.de/schulung-gao-ehemaligen-treffen/ - Artikel vom: Sa.\, 28. November 2020\, 14:44:43 - Ehemalige Mitarbeiter der GAO treffen sich an einem Gastronomie-Standort regional und sprechen über dies und das. Diese #Schulung ist eine Veranstaltung privater Natur.\n \nSeminarinhalte (Auswahl)Agenda: Wir treffen uns in der GaststätteOptional Abendessen (auf eigene Kosten)Small talk und Interessante Gespräche sind garantiert :)Ende offen.Zielgruppe | Max Teilnehmerehemalige Mitarbeitende der GAO Computerhaus GmbH und Ratiodata | 20VoraussetzungenGAO-Veteran\, noch im Konzern oder wo anders tägigZeitrahmenDauer : ca. 3h\, 19:00 bis 22:00 Uhr.VeranstaltungsortSpeiselokal/Gaststätte wird noch festgelegtAnmeldung im Shop
LOCATION:https://wp.pbcs.de
CATEGORIES:Gelbe Kategorie
TRANSP:TRANSPARENT
X-MICROSOFT-CDO-BUSYSTATUS:FREE
SEQUENCE:0
CLASS:PUBLIC
PRIORITY:1
DTSTART:20260421T070000Z
DTEND:20260421T080000Z
BEGIN:VALARM
TRIGGER:-PT30M
ACTION:DISPLAY
DESCRIPTION:Reminder for Schulung – GAO Ehemaligen Treffen
END:VALARM
END:VEVENT
END:VCALENDAR
