BEGIN:VCALENDAR
VERSION:2.0
METHOD:PUBLISH
PRODID:- PBCS IT-News //NONSGML Events //EN
CALSCALE:GREGORIAN
X-WR-CALNAME:ICAL-BLOG
BEGIN:VEVENT
UID:5bda04c0-06bd-4cf9-95cb-e509558522cf
DTSTAMP:20260425T131257Z
CREATED:20260425T131257Z
SUMMARY:Samsung Galaxy S5mini erhält Lollipop (android 5.1.1)
DESCRIPTION:https://wp.pbcs.de/samsung-galaxy-s5mini-erhaelt-lollipop-android-5-1-1/ - Artikel vom: Sa.\, 16. Januar 2016\, 15:10:26 - als offizielle Firmware. Damit bekommt man das Telefon Stagefright und Stagefright 2 sicher und die bekannten Lücken\, mit denen das Telefon angreifbar war\, sind gestopft. Darüber hinaus stehen einige Komfortfeatures und Aktualisierungen der Samsung Oberfläche neben dem Google aufgeräumten Material Design auf der Liste. Die Bezeichnung der Firmware ist: SM-G800F_G800FXXU1BOL4 Ob das Telefon wegen der mächtigeren Software langsamer wird und wie weit die Akkulaufzeit sich verändert\, bleibt abzuwarten. (Post ID:988)
LOCATION:https://wp.pbcs.de
CATEGORIES:Gelbe Kategorie
TRANSP:TRANSPARENT
X-MICROSOFT-CDO-BUSYSTATUS:FREE
SEQUENCE:0
CLASS:PUBLIC
PRIORITY:1
DTSTART:20260426T070000Z
DTEND:20260426T080000Z
BEGIN:VALARM
TRIGGER:-PT30M
ACTION:DISPLAY
DESCRIPTION:Reminder for Samsung Galaxy S5mini erhält Lollipop (android 5.1.1)
END:VALARM
END:VEVENT
END:VCALENDAR
