BEGIN:VCALENDAR
VERSION:2.0
METHOD:PUBLISH
PRODID:- PBCS IT-News //NONSGML Events //EN
CALSCALE:GREGORIAN
X-WR-CALNAME:ICAL-BLOG
BEGIN:VEVENT
UID:f7bc95da-63fb-46b6-9b5e-f35b3b13bafd
DTSTAMP:20260421T110903Z
CREATED:20260421T110903Z
SUMMARY:Samsung Galaxy S4 Firmware UGNG8
DESCRIPTION:https://wp.pbcs.de/samsung-galaxy-s4-firmware-ugng8/ - Artikel vom: Fr.\, 15. August 2014\, 11:46:38 - Neue offizielle Firmware UGNG8 für den deutschsprachigen Länderraum freigegeben mit Sicherheitsupdates und weiterer Verbesserung der Akkulaufzeit. Ein optimiertes android auf dem Telefon kann damit eine Laufzeit von durchschnittlich 2-3 Tagen erzielen. Das Flashen kann per OTA oder für die gerooteten Geräte mit dem Samsung Tool DDIN v3.09 über das USB-Kabel geschehen. (Post ID:865)
LOCATION:https://wp.pbcs.de
CATEGORIES:Gelbe Kategorie
TRANSP:TRANSPARENT
X-MICROSOFT-CDO-BUSYSTATUS:FREE
SEQUENCE:0
CLASS:PUBLIC
PRIORITY:1
DTSTART:20260309T080000Z
DTEND:20260309T090000Z
BEGIN:VALARM
TRIGGER:-PT30M
ACTION:DISPLAY
DESCRIPTION:Reminder for Samsung Galaxy S4 Firmware UGNG8
END:VALARM
END:VEVENT
END:VCALENDAR
