BEGIN:VCALENDAR
VERSION:2.0
METHOD:PUBLISH
PRODID:- PBCS IT-News //NONSGML Events //EN
CALSCALE:GREGORIAN
X-WR-CALNAME:ICAL-BLOG
BEGIN:VEVENT
UID:5328199a-e9c9-42ba-929c-64557ad57250
DTSTAMP:20260424T220135Z
CREATED:20260424T220135Z
SUMMARY:Reisebericht: USA Südstaaten mit dem Mietwagen 2000 (bevor Katharina wütete)
DESCRIPTION:https://wp.pbcs.de/reisebericht-usa-suedstaaten-mit-dem-mietwagen-2000-bevor-katharina-wuetete/ - Artikel vom: Sa.\, 19. Januar 2019\, 11:30:06 - Diesmal geht es in den Südwesten der Vereinigten Staaten - eine Tour zur Erholung und zum Kennenlernen der Südstaaten (Florida\, Louisiana\, Mississippi\, Alabama). Zunächst mit Lufthansa von Dortmund über Frankfurt nach Miami\, weiter mit American Airlines nach New Orleans\, mit dem Mietwagen (Buick Century) und Baton Rouge\, weiter nach Besichtigung der Sehenswürdigkeiten der näheren Umgebung mit dem Mietwagen weiter nach Biloxi (Golfküste) und nach Mobile\, zurück über New Orleans mit dem Flieger nach Miami und ein wenig Erholung zum Schluss. \nDo	Dortmund(Flug LH Dash 1h)->Frankfurt(Flug LH B747-200 9h)->Miami\, Florida	Miami Hilton Airport\n Fr	Miami (Flug American 727)->New Orleans\, Mietwagen (Buick Century\, AVIS)\, Fahrt zum Hotel\, Besichtigung des Franz. Viertels\, Lifemusik\, Strassencafes\, Gumbo essen	Sheraton New Orleans\n\nSa	Tour mit dem Auto nach Houma Plantation\, Baton Rouge (Hauptstadt Luisianas)\, Oak Alley Plantation (von Winde verweht)\, Abendessen bei Arnauds	Sheraton New Orleans\n So	Besichtigen der Sites in New Orleans Downtown und Umgebung\, Weiterfahrt nach Biloxi (Mississippi)	Beau Rivage Biloxi\n\nMo	 Relaxen am Hotel-Pool	Beau Rivage Biloxi\n\nDi	Fahrt mit dem Auto zu den Bellingrath Gardens und nach Mobile\, Alabama\, Stadtbesichtigung	Beau Rivage Biloxi\n\nMi	Besichtigung der alten Häuser  und Rundgang in Biloxi	Beau Rivage Biloxi\n Do	 Fahrt nach Hattiesburg und Besichtigen der Sights	Beau Rivage Biloxi\n\nFr	 Auto: Biloxi->New Orleans\;Flug AA 727->Miami	Sheraton Bal Harbour\n\nSa	Sonnenbaden am Hotelpool/Strand	Sheraton Bal Harbour\n So	Miami Downtown & Key Biscayne Shopping	Sheraton Bal Harbour\n\nMo	Sonnenbaden am Hotelpool/Strand	Sheraton Bal Harbour\n Di	Sonnenbaden am Hotelpool/Strand	Sheraton Bal Harbour\n\nMi	Sonnenbaden am Hotelpool/Strand	Sheraton Bal Harbour\n\nDo	Miami-Frankfurt (Lufthansa 747-200)	Flugzeug\n\nFr	Frankfurt-Dortmund (Lufthansa Dash)  (Post ID:1230)
LOCATION:https://wp.pbcs.de
CATEGORIES:Gelbe Kategorie
TRANSP:TRANSPARENT
X-MICROSOFT-CDO-BUSYSTATUS:FREE
SEQUENCE:0
CLASS:PUBLIC
PRIORITY:1
DTSTART:20260425T070000Z
DTEND:20260425T080000Z
BEGIN:VALARM
TRIGGER:-PT30M
ACTION:DISPLAY
DESCRIPTION:Reminder for Reisebericht: USA Südstaaten mit dem Mietwagen 2000 (bevor Katharina wütete)
END:VALARM
END:VEVENT
END:VCALENDAR
