BEGIN:VCALENDAR
VERSION:2.0
METHOD:PUBLISH
PRODID:- PBCS IT-News //NONSGML Events //EN
CALSCALE:GREGORIAN
X-WR-CALNAME:ICAL-BLOG
BEGIN:VEVENT
UID:8bfa8b11-e5a9-4710-a702-ee3140021d28
DTSTAMP:20260424T065752Z
CREATED:20260424T065752Z
SUMMARY:Quizfrage 5171
DESCRIPTION:https://wp.pbcs.de/question/quizfrage-5171/ - Artikel vom: Mo.\, 29. September 2025\, 19:11:02 - Wer malte -Sternennacht-?
LOCATION:https://wp.pbcs.de
CATEGORIES:Gelbe Kategorie
TRANSP:TRANSPARENT
X-MICROSOFT-CDO-BUSYSTATUS:FREE
SEQUENCE:0
CLASS:PUBLIC
PRIORITY:1
DTSTART:20260424T070000Z
DTEND:20260424T080000Z
BEGIN:VALARM
TRIGGER:-PT30M
ACTION:DISPLAY
DESCRIPTION:Reminder for Quizfrage 5171
END:VALARM
END:VEVENT
END:VCALENDAR
