BEGIN:VCALENDAR
VERSION:2.0
METHOD:PUBLISH
PRODID:- PBCS IT-News //NONSGML Events //EN
CALSCALE:GREGORIAN
X-WR-CALNAME:ICAL-BLOG
BEGIN:VEVENT
UID:2e40db69-9cf4-40c8-b534-c33205578fc6
DTSTAMP:20260421T141916Z
CREATED:20260421T141916Z
SUMMARY:Quizfrage 7329
DESCRIPTION:https://wp.pbcs.de/question/quizfrage-7329/ - Artikel vom: Mo.\, 29. September 2025\, 19:11:45 - Welcher deutsche Comic von Flix interpretiert Goethes Faust neu?
LOCATION:https://wp.pbcs.de
CATEGORIES:Gelbe Kategorie
TRANSP:TRANSPARENT
X-MICROSOFT-CDO-BUSYSTATUS:FREE
SEQUENCE:0
CLASS:PUBLIC
PRIORITY:1
DTSTART:20260422T070000Z
DTEND:20260422T080000Z
BEGIN:VALARM
TRIGGER:-PT30M
ACTION:DISPLAY
DESCRIPTION:Reminder for Quizfrage 7329
END:VALARM
END:VEVENT
END:VCALENDAR
