BEGIN:VCALENDAR
VERSION:2.0
METHOD:PUBLISH
PRODID:- PBCS IT-News //NONSGML Events //EN
CALSCALE:GREGORIAN
X-WR-CALNAME:ICAL-BLOG
BEGIN:VEVENT
UID:439c08f0-38e3-4c8f-b0db-bbfa6fd2c4a4
DTSTAMP:20260420T134746Z
CREATED:20260420T134746Z
SUMMARY:Quizfrage 8290
DESCRIPTION:https://wp.pbcs.de/question/quizfrage-8290/ - Artikel vom: Fr.\, 10. April 2026\, 17:53:12 - Welcher Song von Green Day erzählt von Orientierungslosigkeit und Selbstsuche?
LOCATION:https://wp.pbcs.de
CATEGORIES:Gelbe Kategorie
TRANSP:TRANSPARENT
X-MICROSOFT-CDO-BUSYSTATUS:FREE
SEQUENCE:0
CLASS:PUBLIC
PRIORITY:1
DTSTART:20260417T070000Z
DTEND:20260417T080000Z
BEGIN:VALARM
TRIGGER:-PT30M
ACTION:DISPLAY
DESCRIPTION:Reminder for Quizfrage 8290
END:VALARM
END:VEVENT
END:VCALENDAR
