BEGIN:VCALENDAR
VERSION:2.0
METHOD:PUBLISH
PRODID:- PBCS IT-News //NONSGML Events //EN
CALSCALE:GREGORIAN
X-WR-CALNAME:ICAL-BLOG
BEGIN:VEVENT
UID:9e2b1e6d-d10c-4fad-9050-18e1c8fb6b07
DTSTAMP:20260420T095921Z
CREATED:20260420T095921Z
SUMMARY:Quizfrage 8283
DESCRIPTION:https://wp.pbcs.de/question/quizfrage-8283/ - Artikel vom: Fr.\, 10. April 2026\, 17:53:11 - Welcher Song von The Police erzählt von obsessiver Beobachtung in einer Beziehung?
LOCATION:https://wp.pbcs.de
CATEGORIES:Gelbe Kategorie
TRANSP:TRANSPARENT
X-MICROSOFT-CDO-BUSYSTATUS:FREE
SEQUENCE:0
CLASS:PUBLIC
PRIORITY:1
DTSTART:20260419T070000Z
DTEND:20260419T080000Z
BEGIN:VALARM
TRIGGER:-PT30M
ACTION:DISPLAY
DESCRIPTION:Reminder for Quizfrage 8283
END:VALARM
END:VEVENT
END:VCALENDAR
