BEGIN:VCALENDAR
VERSION:2.0
METHOD:PUBLISH
PRODID:- PBCS IT-News //NONSGML Events //EN
CALSCALE:GREGORIAN
X-WR-CALNAME:ICAL-BLOG
BEGIN:VEVENT
UID:14919221-b042-44e7-91ee-0b91eec28ac9
DTSTAMP:20260420T115154Z
CREATED:20260420T115154Z
SUMMARY:Quizfrage 8276
DESCRIPTION:https://wp.pbcs.de/question/quizfrage-8276/ - Artikel vom: Fr.\, 10. April 2026\, 17:53:10 - Welcher Song der Toten Hosen erzählt von einer Feier\, nach der sogar eine Kirche neu geweiht werden musste?
LOCATION:https://wp.pbcs.de
CATEGORIES:Gelbe Kategorie
TRANSP:TRANSPARENT
X-MICROSOFT-CDO-BUSYSTATUS:FREE
SEQUENCE:0
CLASS:PUBLIC
PRIORITY:1
DTSTART:20260419T070000Z
DTEND:20260419T080000Z
BEGIN:VALARM
TRIGGER:-PT30M
ACTION:DISPLAY
DESCRIPTION:Reminder for Quizfrage 8276
END:VALARM
END:VEVENT
END:VCALENDAR
