BEGIN:VCALENDAR
VERSION:2.0
METHOD:PUBLISH
PRODID:- PBCS IT-News //NONSGML Events //EN
CALSCALE:GREGORIAN
X-WR-CALNAME:ICAL-BLOG
BEGIN:VEVENT
UID:ace551d7-e670-4a67-90b9-610b0d52a510
DTSTAMP:20260419T133808Z
CREATED:20260419T133808Z
SUMMARY:Quizfrage 8274
DESCRIPTION:https://wp.pbcs.de/question/quizfrage-8274/ - Artikel vom: Fr.\, 10. April 2026\, 17:53:10 - Welcher Song von U2 gehört zu ihren bekanntesten Stadion-Hymnen?
LOCATION:https://wp.pbcs.de
CATEGORIES:Gelbe Kategorie
TRANSP:TRANSPARENT
X-MICROSOFT-CDO-BUSYSTATUS:FREE
SEQUENCE:0
CLASS:PUBLIC
PRIORITY:1
DTSTART:20260416T070000Z
DTEND:20260416T080000Z
BEGIN:VALARM
TRIGGER:-PT30M
ACTION:DISPLAY
DESCRIPTION:Reminder for Quizfrage 8274
END:VALARM
END:VEVENT
END:VCALENDAR
