BEGIN:VCALENDAR
VERSION:2.0
METHOD:PUBLISH
PRODID:- PBCS IT-News //NONSGML Events //EN
CALSCALE:GREGORIAN
X-WR-CALNAME:ICAL-BLOG
BEGIN:VEVENT
UID:86ed779b-093e-43fd-b6a3-3e2681a42fc1
DTSTAMP:20260420T134802Z
CREATED:20260420T134802Z
SUMMARY:Quizfrage 8263
DESCRIPTION:https://wp.pbcs.de/question/quizfrage-8263/ - Artikel vom: Fr.\, 10. April 2026\, 17:53:09 - Welcher Song von Metallica beginnt mit einem bekannten ruhigen Gitarrenintro?
LOCATION:https://wp.pbcs.de
CATEGORIES:Gelbe Kategorie
TRANSP:TRANSPARENT
X-MICROSOFT-CDO-BUSYSTATUS:FREE
SEQUENCE:0
CLASS:PUBLIC
PRIORITY:1
DTSTART:20260419T070000Z
DTEND:20260419T080000Z
BEGIN:VALARM
TRIGGER:-PT30M
ACTION:DISPLAY
DESCRIPTION:Reminder for Quizfrage 8263
END:VALARM
END:VEVENT
END:VCALENDAR
