BEGIN:VCALENDAR
VERSION:2.0
METHOD:PUBLISH
PRODID:- PBCS IT-News //NONSGML Events //EN
CALSCALE:GREGORIAN
X-WR-CALNAME:ICAL-BLOG
BEGIN:VEVENT
UID:bf31f4d6-36e5-4974-b4de-d6a52d476111
DTSTAMP:20260421T142059Z
CREATED:20260421T142059Z
SUMMARY:Quizfrage 8261
DESCRIPTION:https://wp.pbcs.de/question/quizfrage-8261/ - Artikel vom: Fr.\, 10. April 2026\, 17:53:09 - Welcher Song von a-ha wurde durch ein innovatives Comic-Musikvideo berühmt?
LOCATION:https://wp.pbcs.de
CATEGORIES:Gelbe Kategorie
TRANSP:TRANSPARENT
X-MICROSOFT-CDO-BUSYSTATUS:FREE
SEQUENCE:0
CLASS:PUBLIC
PRIORITY:1
DTSTART:20260422T070000Z
DTEND:20260422T080000Z
BEGIN:VALARM
TRIGGER:-PT30M
ACTION:DISPLAY
DESCRIPTION:Reminder for Quizfrage 8261
END:VALARM
END:VEVENT
END:VCALENDAR
