BEGIN:VCALENDAR
VERSION:2.0
METHOD:PUBLISH
PRODID:- PBCS IT-News //NONSGML Events //EN
CALSCALE:GREGORIAN
X-WR-CALNAME:ICAL-BLOG
BEGIN:VEVENT
UID:1532a278-d5c8-417d-a5e5-7506cefac176
DTSTAMP:20260420T164044Z
CREATED:20260420T164044Z
SUMMARY:Quizfrage 8260
DESCRIPTION:https://wp.pbcs.de/question/quizfrage-8260/ - Artikel vom: Fr.\, 10. April 2026\, 17:53:09 - Welcher Song von Oasis wurde zur Hymne des Britpop der 90er?
LOCATION:https://wp.pbcs.de
CATEGORIES:Gelbe Kategorie
TRANSP:TRANSPARENT
X-MICROSOFT-CDO-BUSYSTATUS:FREE
SEQUENCE:0
CLASS:PUBLIC
PRIORITY:1
DTSTART:20260421T070000Z
DTEND:20260421T080000Z
BEGIN:VALARM
TRIGGER:-PT30M
ACTION:DISPLAY
DESCRIPTION:Reminder for Quizfrage 8260
END:VALARM
END:VEVENT
END:VCALENDAR
