BEGIN:VCALENDAR
VERSION:2.0
METHOD:PUBLISH
PRODID:- PBCS IT-News //NONSGML Events //EN
CALSCALE:GREGORIAN
X-WR-CALNAME:ICAL-BLOG
BEGIN:VEVENT
UID:e1a7f75c-702a-4bb7-bf6f-c04e6dae75af
DTSTAMP:20260419T152736Z
CREATED:20260419T152736Z
SUMMARY:Quizfrage 8260
DESCRIPTION:https://wp.pbcs.de/question/quizfrage-8260/ - Artikel vom: Fr.\, 10. April 2026\, 17:53:09 - Welcher Song von Oasis wurde zur Hymne des Britpop der 90er?
LOCATION:https://wp.pbcs.de
CATEGORIES:Gelbe Kategorie
TRANSP:TRANSPARENT
X-MICROSOFT-CDO-BUSYSTATUS:FREE
SEQUENCE:0
CLASS:PUBLIC
PRIORITY:1
DTSTART:20260415T070000Z
DTEND:20260415T080000Z
BEGIN:VALARM
TRIGGER:-PT30M
ACTION:DISPLAY
DESCRIPTION:Reminder for Quizfrage 8260
END:VALARM
END:VEVENT
END:VCALENDAR
