BEGIN:VCALENDAR
VERSION:2.0
METHOD:PUBLISH
PRODID:- PBCS IT-News //NONSGML Events //EN
CALSCALE:GREGORIAN
X-WR-CALNAME:ICAL-BLOG
BEGIN:VEVENT
UID:57b751f3-18f3-466d-becc-f3ebdb876c0c
DTSTAMP:20260424T101922Z
CREATED:20260424T101922Z
SUMMARY:Quizfrage 8195
DESCRIPTION:https://wp.pbcs.de/question/quizfrage-8195/ - Artikel vom: Di.\, 9. Dezember 2025\, 13:14:39 - Welcher Serienmörder wurde wegen seiner -Nachtstalker--Verbrechen 1985 verhaftet?
LOCATION:https://wp.pbcs.de
CATEGORIES:Gelbe Kategorie
TRANSP:TRANSPARENT
X-MICROSOFT-CDO-BUSYSTATUS:FREE
SEQUENCE:0
CLASS:PUBLIC
PRIORITY:1
DTSTART:20260425T070000Z
DTEND:20260425T080000Z
BEGIN:VALARM
TRIGGER:-PT30M
ACTION:DISPLAY
DESCRIPTION:Reminder for Quizfrage 8195
END:VALARM
END:VEVENT
END:VCALENDAR
