BEGIN:VCALENDAR
VERSION:2.0
METHOD:PUBLISH
PRODID:- PBCS IT-News //NONSGML Events //EN
CALSCALE:GREGORIAN
X-WR-CALNAME:ICAL-BLOG
BEGIN:VEVENT
UID:34efa1fc-fa36-459b-a8fa-e021bbfbd34f
DTSTAMP:20260424T082916Z
CREATED:20260424T082916Z
SUMMARY:Quizfrage 8194
DESCRIPTION:https://wp.pbcs.de/question/quizfrage-8194/ - Artikel vom: Di.\, 9. Dezember 2025\, 13:14:39 - Welcher Fall führte zur Verhaftung des -BTK-Killers- Dennis Rader?
LOCATION:https://wp.pbcs.de
CATEGORIES:Gelbe Kategorie
TRANSP:TRANSPARENT
X-MICROSOFT-CDO-BUSYSTATUS:FREE
SEQUENCE:0
CLASS:PUBLIC
PRIORITY:1
DTSTART:20260424T070000Z
DTEND:20260424T080000Z
BEGIN:VALARM
TRIGGER:-PT30M
ACTION:DISPLAY
DESCRIPTION:Reminder for Quizfrage 8194
END:VALARM
END:VEVENT
END:VCALENDAR
