BEGIN:VCALENDAR
VERSION:2.0
METHOD:PUBLISH
PRODID:- PBCS IT-News //NONSGML Events //EN
CALSCALE:GREGORIAN
X-WR-CALNAME:ICAL-BLOG
BEGIN:VEVENT
UID:a1bb673a-6427-41f4-9d1c-d8f8d020e3ca
DTSTAMP:20260419T133012Z
CREATED:20260419T133012Z
SUMMARY:Quizfrage 8174
DESCRIPTION:https://wp.pbcs.de/question/quizfrage-8174/ - Artikel vom: Sa.\, 1. November 2025\, 14:43:17 - Wordpress-CMS: Was ist ein Child Theme (Unter-Theme)?
LOCATION:https://wp.pbcs.de
CATEGORIES:Gelbe Kategorie
TRANSP:TRANSPARENT
X-MICROSOFT-CDO-BUSYSTATUS:FREE
SEQUENCE:0
CLASS:PUBLIC
PRIORITY:1
DTSTART:20260416T070000Z
DTEND:20260416T080000Z
BEGIN:VALARM
TRIGGER:-PT30M
ACTION:DISPLAY
DESCRIPTION:Reminder for Quizfrage 8174
END:VALARM
END:VEVENT
END:VCALENDAR
