BEGIN:VCALENDAR
VERSION:2.0
METHOD:PUBLISH
PRODID:- PBCS IT-News //NONSGML Events //EN
CALSCALE:GREGORIAN
X-WR-CALNAME:ICAL-BLOG
BEGIN:VEVENT
UID:be33e0fb-c5dd-4777-bbab-8c8e95ac2529
DTSTAMP:20260419T170445Z
CREATED:20260419T170445Z
SUMMARY:Quizfrage 8017
DESCRIPTION:https://wp.pbcs.de/question/quizfrage-8017/ - Artikel vom: Sa.\, 1. November 2025\, 12:57:18 - Was war die traditionelle Farbe der Abitur Zeitung des Jahrgangs 1988 (Abi88 revol)?
LOCATION:https://wp.pbcs.de
CATEGORIES:Gelbe Kategorie
TRANSP:TRANSPARENT
X-MICROSOFT-CDO-BUSYSTATUS:FREE
SEQUENCE:0
CLASS:PUBLIC
PRIORITY:1
DTSTART:20260416T070000Z
DTEND:20260416T080000Z
BEGIN:VALARM
TRIGGER:-PT30M
ACTION:DISPLAY
DESCRIPTION:Reminder for Quizfrage 8017
END:VALARM
END:VEVENT
END:VCALENDAR
