BEGIN:VCALENDAR
VERSION:2.0
METHOD:PUBLISH
PRODID:- PBCS IT-News //NONSGML Events //EN
CALSCALE:GREGORIAN
X-WR-CALNAME:ICAL-BLOG
BEGIN:VEVENT
UID:5ef5d8e5-9176-4a3c-aa61-f904f8444699
DTSTAMP:20260419T150233Z
CREATED:20260419T150233Z
SUMMARY:Quizfrage 8013
DESCRIPTION:https://wp.pbcs.de/question/quizfrage-8013/ - Artikel vom: Sa.\, 1. November 2025\, 12:57:18 - Welches war eines der ältesten und bekanntesten Fächer am SGB\, das oft zu leistungsorientierten Kursen führte?
LOCATION:https://wp.pbcs.de
CATEGORIES:Gelbe Kategorie
TRANSP:TRANSPARENT
X-MICROSOFT-CDO-BUSYSTATUS:FREE
SEQUENCE:0
CLASS:PUBLIC
PRIORITY:1
DTSTART:20260416T070000Z
DTEND:20260416T080000Z
BEGIN:VALARM
TRIGGER:-PT30M
ACTION:DISPLAY
DESCRIPTION:Reminder for Quizfrage 8013
END:VALARM
END:VEVENT
END:VCALENDAR
